BEGIN:VCALENDAR
VERSION:2.0
PRODID:-//Huron Shores - ECPv6.15.11//NONSGML v1.0//EN
CALSCALE:GREGORIAN
METHOD:PUBLISH
X-ORIGINAL-URL:https://huronshores.ca
X-WR-CALDESC:Events for Huron Shores
REFRESH-INTERVAL;VALUE=DURATION:PT1H
X-Robots-Tag:noindex
X-PUBLISHED-TTL:PT1H
BEGIN:VTIMEZONE
TZID:America/Toronto
BEGIN:DAYLIGHT
TZOFFSETFROM:-0500
TZOFFSETTO:-0400
TZNAME:EDT
DTSTART:20170312T070000
END:DAYLIGHT
BEGIN:STANDARD
TZOFFSETFROM:-0400
TZOFFSETTO:-0500
TZNAME:EST
DTSTART:20171105T060000
END:STANDARD
BEGIN:DAYLIGHT
TZOFFSETFROM:-0500
TZOFFSETTO:-0400
TZNAME:EDT
DTSTART:20180311T070000
END:DAYLIGHT
BEGIN:STANDARD
TZOFFSETFROM:-0400
TZOFFSETTO:-0500
TZNAME:EST
DTSTART:20181104T060000
END:STANDARD
BEGIN:DAYLIGHT
TZOFFSETFROM:-0500
TZOFFSETTO:-0400
TZNAME:EDT
DTSTART:20190310T070000
END:DAYLIGHT
BEGIN:STANDARD
TZOFFSETFROM:-0400
TZOFFSETTO:-0500
TZNAME:EST
DTSTART:20191103T060000
END:STANDARD
END:VTIMEZONE
BEGIN:VEVENT
DTSTART;TZID=America/Toronto:20180425T190000
DTEND;TZID=America/Toronto:20180425T190000
DTSTAMP:20260423T105916
CREATED:20180423T171534Z
LAST-MODIFIED:20180423T171534Z
UID:10020543-1524682800-1524682800@huronshores.ca
SUMMARY:Special Meeting - Zoning By-law Review
DESCRIPTION:A Special Meeting of Council will be held Wednesday\, April 25th\, 2018 at 7:00 p.m. in the Council Chambers\, 7 Bridge Street.  The meeting was authorized via Resolution #18-07-09 dated March 21st\, 2018\, in order to commence the review of the Comprehensive Zoning By-law.  Please click on the link below to view the Agenda post.
URL:https://huronshores.ca/event/special-meeting-zoning-by-law-review/
CATEGORIES:Council Meeting,Planning & Zoning
ATTACH;FMTTYPE=image/png:https://huronshores.ca/wp-content/uploads/2018/03/crest.png
END:VEVENT
END:VCALENDAR