BEGIN:VCALENDAR
VERSION:2.0
PRODID:-//Huron Shores - ECPv6.15.11//NONSGML v1.0//EN
CALSCALE:GREGORIAN
METHOD:PUBLISH
X-ORIGINAL-URL:https://huronshores.ca
X-WR-CALDESC:Events for Huron Shores
REFRESH-INTERVAL;VALUE=DURATION:PT1H
X-Robots-Tag:noindex
X-PUBLISHED-TTL:PT1H
BEGIN:VTIMEZONE
TZID:America/Toronto
BEGIN:DAYLIGHT
TZOFFSETFROM:-0500
TZOFFSETTO:-0400
TZNAME:EDT
DTSTART:20230312T070000
END:DAYLIGHT
BEGIN:STANDARD
TZOFFSETFROM:-0400
TZOFFSETTO:-0500
TZNAME:EST
DTSTART:20231105T060000
END:STANDARD
BEGIN:DAYLIGHT
TZOFFSETFROM:-0500
TZOFFSETTO:-0400
TZNAME:EDT
DTSTART:20240310T070000
END:DAYLIGHT
BEGIN:STANDARD
TZOFFSETFROM:-0400
TZOFFSETTO:-0500
TZNAME:EST
DTSTART:20241103T060000
END:STANDARD
BEGIN:DAYLIGHT
TZOFFSETFROM:-0500
TZOFFSETTO:-0400
TZNAME:EDT
DTSTART:20250309T070000
END:DAYLIGHT
BEGIN:STANDARD
TZOFFSETFROM:-0400
TZOFFSETTO:-0500
TZNAME:EST
DTSTART:20251102T060000
END:STANDARD
END:VTIMEZONE
BEGIN:VEVENT
DTSTART;TZID=America/Toronto:20240503T103000
DTEND;TZID=America/Toronto:20240503T233000
DTSTAMP:20260419T192416
CREATED:20240416T015953Z
LAST-MODIFIED:20240416T015953Z
UID:10022594-1714732200-1714779000@huronshores.ca
SUMMARY:MPP Michael Mantha Constituency Clinic
DESCRIPTION:Constituents who have questions or matters of concern are invited to meet with him individually. Please contact the Constituency Office listed below for further information or to book an appointment. \n(705) 461-9710\n1-800-831-1899\nmmantha-co@ndp.on.ca
URL:https://huronshores.ca/event/mpp-michael-mantha-constituency-clinic-2/
LOCATION:Council Chambers\, 7 Bridge Street\, Iron Bridge\, Ontario\, P0R1H0\, Canada
CATEGORIES:Community News
ORGANIZER;CN="MPP Michael Mantha":MAILTO:mmantha-co@ola.org
END:VEVENT
END:VCALENDAR