BEGIN:VCALENDAR
VERSION:2.0
PRODID:-//Huron Shores - ECPv6.15.11//NONSGML v1.0//EN
CALSCALE:GREGORIAN
METHOD:PUBLISH
X-WR-CALNAME:Huron Shores
X-ORIGINAL-URL:https://huronshores.ca
X-WR-CALDESC:Events for Huron Shores
REFRESH-INTERVAL;VALUE=DURATION:PT1H
X-Robots-Tag:noindex
X-PUBLISHED-TTL:PT1H
BEGIN:VTIMEZONE
TZID:America/Toronto
BEGIN:DAYLIGHT
TZOFFSETFROM:-0500
TZOFFSETTO:-0400
TZNAME:EDT
DTSTART:20210314T070000
END:DAYLIGHT
BEGIN:STANDARD
TZOFFSETFROM:-0400
TZOFFSETTO:-0500
TZNAME:EST
DTSTART:20211107T060000
END:STANDARD
BEGIN:DAYLIGHT
TZOFFSETFROM:-0500
TZOFFSETTO:-0400
TZNAME:EDT
DTSTART:20220313T070000
END:DAYLIGHT
BEGIN:STANDARD
TZOFFSETFROM:-0400
TZOFFSETTO:-0500
TZNAME:EST
DTSTART:20221106T060000
END:STANDARD
BEGIN:DAYLIGHT
TZOFFSETFROM:-0500
TZOFFSETTO:-0400
TZNAME:EDT
DTSTART:20230312T070000
END:DAYLIGHT
BEGIN:STANDARD
TZOFFSETFROM:-0400
TZOFFSETTO:-0500
TZNAME:EST
DTSTART:20231105T060000
END:STANDARD
BEGIN:DAYLIGHT
TZOFFSETFROM:-0500
TZOFFSETTO:-0400
TZNAME:EDT
DTSTART:20240310T070000
END:DAYLIGHT
BEGIN:STANDARD
TZOFFSETFROM:-0400
TZOFFSETTO:-0500
TZNAME:EST
DTSTART:20241103T060000
END:STANDARD
BEGIN:DAYLIGHT
TZOFFSETFROM:-0500
TZOFFSETTO:-0400
TZNAME:EDT
DTSTART:20250309T070000
END:DAYLIGHT
BEGIN:STANDARD
TZOFFSETFROM:-0400
TZOFFSETTO:-0500
TZNAME:EST
DTSTART:20251102T060000
END:STANDARD
END:VTIMEZONE
BEGIN:VEVENT
DTSTART;VALUE=DATE:20240824
DTEND;VALUE=DATE:20240825
DTSTAMP:20260420T113633
CREATED:20240502T131058Z
LAST-MODIFIED:20240502T131058Z
UID:10021431-1724457600-1724543999@huronshores.ca
SUMMARY:Annual Fall Fair
DESCRIPTION:The Iron Bridge Agricultural Society will be hosting its Annual Fall Fair on the Saturday August 24\, 2024 at the Iron Bridge Recreation Centre (Arena)\, 1 Chiblow Lake Rd.  Watch for details!
URL:https://huronshores.ca/event/annual-fall-fair/
LOCATION:Iron Bridge Recreation Centre\, 1 Chiblow Lake Road\, Iron Bridge\, ON\, P0R 1H0\, Canada
CATEGORIES:Community News
END:VEVENT
BEGIN:VEVENT
DTSTART;TZID=America/Toronto:20240615T140000
DTEND;TZID=America/Toronto:20240616T000000
DTSTAMP:20260420T113633
CREATED:20240429T164120Z
LAST-MODIFIED:20240429T164120Z
UID:10022599-1718460000-1718496000@huronshores.ca
SUMMARY:Iron Bridge Music Fest
DESCRIPTION:
URL:https://huronshores.ca/event/iron-bridge-music-fest-5/
LOCATION:Iron Bridge Recreation Centre\, 1 Chiblow Lake Road\, Iron Bridge\, ON\, P0R 1H0\, Canada
CATEGORIES:Community News
END:VEVENT
BEGIN:VEVENT
DTSTART;TZID=America/Toronto:20240530T170000
DTEND;TZID=America/Toronto:20240530T183000
DTSTAMP:20260420T113633
CREATED:20240507T141722Z
LAST-MODIFIED:20240507T141722Z
UID:10021436-1717088400-1717093800@huronshores.ca
SUMMARY:Iron Bridge Ball Hockey
DESCRIPTION:
URL:https://huronshores.ca/event/iron-bridge-ball-hockey-4/
LOCATION:Iron Bridge Recreation Centre\, 1 Chiblow Lake Road\, Iron Bridge\, ON\, P0R 1H0\, Canada
CATEGORIES:Community News
END:VEVENT
BEGIN:VEVENT
DTSTART;TZID=America/Toronto:20240523T170000
DTEND;TZID=America/Toronto:20240523T183000
DTSTAMP:20260420T113633
CREATED:20240507T141327Z
LAST-MODIFIED:20240507T141327Z
UID:10021435-1716483600-1716489000@huronshores.ca
SUMMARY:Iron Bridge Ball Hockey
DESCRIPTION:
URL:https://huronshores.ca/event/iron-bridge-ball-hockey-3/
LOCATION:Iron Bridge Recreation Centre\, 1 Chiblow Lake Road\, Iron Bridge\, ON\, P0R 1H0\, Canada
CATEGORIES:Community News,Recreation
END:VEVENT
BEGIN:VEVENT
DTSTART;TZID=America/Toronto:20240516T170000
DTEND;TZID=America/Toronto:20240516T183000
DTSTAMP:20260420T113633
CREATED:20240507T140858Z
LAST-MODIFIED:20240507T140858Z
UID:10021434-1715878800-1715884200@huronshores.ca
SUMMARY:Iron Bridge Ball Hockey
DESCRIPTION:
URL:https://huronshores.ca/event/iron-bridge-ball-hockey-2/
LOCATION:Iron Bridge Recreation Centre\, 1 Chiblow Lake Road\, Iron Bridge\, ON\, P0R 1H0\, Canada
CATEGORIES:Community News
END:VEVENT
BEGIN:VEVENT
DTSTART;TZID=America/Toronto:20240509T170000
DTEND;TZID=America/Toronto:20240509T183000
DTSTAMP:20260420T113633
CREATED:20240507T140626Z
LAST-MODIFIED:20240507T140626Z
UID:10021433-1715274000-1715279400@huronshores.ca
SUMMARY:Iron Bridge Ball Hockey
DESCRIPTION:
URL:https://huronshores.ca/event/iron-bridge-ball-hockey/
LOCATION:Iron Bridge Recreation Centre\, 1 Chiblow Lake Road\, Iron Bridge\, ON\, P0R 1H0\, Canada
CATEGORIES:Community News
END:VEVENT
BEGIN:VEVENT
DTSTART;TZID=America/Toronto:20240427T080000
DTEND;TZID=America/Toronto:20240427T170000
DTSTAMP:20260420T113633
CREATED:20240125T192343Z
LAST-MODIFIED:20240422T160843Z
UID:10022554-1714204800-1714237200@huronshores.ca
SUMMARY:North Shore Firefighter Challenge
DESCRIPTION:
URL:https://huronshores.ca/event/north-shore-firefighter-challenge/
LOCATION:Iron Bridge Recreation Centre\, 1 Chiblow Lake Road\, Iron Bridge\, ON\, P0R 1H0\, Canada
END:VEVENT
BEGIN:VEVENT
DTSTART;TZID=America/Toronto:20231029T100000
DTEND;TZID=America/Toronto:20231029T160000
DTSTAMP:20260420T113633
CREATED:20231016T193535Z
LAST-MODIFIED:20231016T194423Z
UID:10022479-1698573600-1698595200@huronshores.ca
SUMMARY:Safe Food Handling Course
DESCRIPTION:Do you need your safe food handling? The Iron Bridge Agricultural Society will be hosting a course on October 29th from 10-4. Please contact Debbie Kirby at 705-542-5063 for more information! Lunch will not be included\, please bring a bagged lunch.
URL:https://huronshores.ca/event/safe-food-handling-course/
LOCATION:Iron Bridge Recreation Centre\, 1 Chiblow Lake Road\, Iron Bridge\, ON\, P0R 1H0\, Canada
CATEGORIES:Community News
END:VEVENT
BEGIN:VEVENT
DTSTART;VALUE=DATE:20230902
DTEND;VALUE=DATE:20230903
DTSTAMP:20260420T113633
CREATED:20230309T145022Z
LAST-MODIFIED:20230309T145022Z
UID:10022434-1693612800-1693699199@huronshores.ca
SUMMARY:2023 Fall Fair
DESCRIPTION:
URL:https://huronshores.ca/event/2023-fall-fair/
LOCATION:Iron Bridge Recreation Centre\, 1 Chiblow Lake Road\, Iron Bridge\, ON\, P0R 1H0\, Canada
CATEGORIES:Community News
END:VEVENT
BEGIN:VEVENT
DTSTART;TZID=America/Toronto:20230708T090000
DTEND;TZID=America/Toronto:20230708T150000
DTSTAMP:20260420T113633
CREATED:20230615T145941Z
LAST-MODIFIED:20230615T145941Z
UID:10022449-1688806800-1688828400@huronshores.ca
SUMMARY:Annual Flea Market
DESCRIPTION:The Huron Shores Recreational Committee is hosting their Annual Flea Market\, July 8\, 2023. Contact the Municipal Office at (705) 843-2033 to book your table today. \nTables are $10.00 per table\, or you can bring donations to be sold on your behalf. Proceeds from donations will go to Janet’s Warriors.  Contact Jane at (705) 849-8940 for more details. \n 
URL:https://huronshores.ca/event/annual-flea-market/
LOCATION:Iron Bridge Recreation Centre\, 1 Chiblow Lake Road\, Iron Bridge\, ON\, P0R 1H0\, Canada
CATEGORIES:Community News,Recreation
END:VEVENT
BEGIN:VEVENT
DTSTART;TZID=America/Toronto:20230617T130000
DTEND;TZID=America/Toronto:20230618T000000
DTSTAMP:20260420T113633
CREATED:20230309T145201Z
LAST-MODIFIED:20230309T145232Z
UID:10022435-1687006800-1687046400@huronshores.ca
SUMMARY:2023 Music Fest
DESCRIPTION:
URL:https://huronshores.ca/event/2023-music-fest/
LOCATION:Iron Bridge Recreation Centre\, 1 Chiblow Lake Road\, Iron Bridge\, ON\, P0R 1H0\, Canada
CATEGORIES:Community News
END:VEVENT
BEGIN:VEVENT
DTSTART;TZID=America/Toronto:20230319T140000
DTEND;TZID=America/Toronto:20230319T160000
DTSTAMP:20260420T113633
CREATED:20230301T162427Z
LAST-MODIFIED:20230301T162427Z
UID:10022424-1679234400-1679241600@huronshores.ca
SUMMARY:Family Games Afternoon
DESCRIPTION:
URL:https://huronshores.ca/event/family-games-afternoon/
LOCATION:Iron Bridge Recreation Centre\, 1 Chiblow Lake Road\, Iron Bridge\, ON\, P0R 1H0\, Canada
CATEGORIES:Community News
END:VEVENT
BEGIN:VEVENT
DTSTART;TZID=America/Toronto:20220921T190000
DTEND;TZID=America/Toronto:20220921T190000
DTSTAMP:20260420T113633
CREATED:20220909T201508Z
LAST-MODIFIED:20220909T201508Z
UID:10022398-1663786800-1663786800@huronshores.ca
SUMMARY:All Candidates Forum
DESCRIPTION:Good evening\, you are invited to participate in an All Candidates Forum  hosted by the Iron Bridge Agricultural Society on Wednesday\, Sept 21 at 7 pm at the Iron Bridge Recreation Center to present your platform and answer questions from the Huron Shores Voting Members. \nWe hope to see you there\, \nRespectfully\, \nJane Armstrong\,\nPresident\nIron Bridge Agricultural Society
URL:https://huronshores.ca/event/all-candidates-forum/
LOCATION:Iron Bridge Recreation Centre\, 1 Chiblow Lake Road\, Iron Bridge\, ON\, P0R 1H0\, Canada
END:VEVENT
END:VCALENDAR