BEGIN:VCALENDAR
VERSION:2.0
PRODID:-//Huron Shores - ECPv6.15.11//NONSGML v1.0//EN
CALSCALE:GREGORIAN
METHOD:PUBLISH
X-ORIGINAL-URL:https://huronshores.ca
X-WR-CALDESC:Events for Huron Shores
REFRESH-INTERVAL;VALUE=DURATION:PT1H
X-Robots-Tag:noindex
X-PUBLISHED-TTL:PT1H
BEGIN:VTIMEZONE
TZID:America/Toronto
BEGIN:DAYLIGHT
TZOFFSETFROM:-0500
TZOFFSETTO:-0400
TZNAME:EDT
DTSTART:20240310T070000
END:DAYLIGHT
BEGIN:STANDARD
TZOFFSETFROM:-0400
TZOFFSETTO:-0500
TZNAME:EST
DTSTART:20241103T060000
END:STANDARD
BEGIN:DAYLIGHT
TZOFFSETFROM:-0500
TZOFFSETTO:-0400
TZNAME:EDT
DTSTART:20250309T070000
END:DAYLIGHT
BEGIN:STANDARD
TZOFFSETFROM:-0400
TZOFFSETTO:-0500
TZNAME:EST
DTSTART:20251102T060000
END:STANDARD
BEGIN:DAYLIGHT
TZOFFSETFROM:-0500
TZOFFSETTO:-0400
TZNAME:EDT
DTSTART:20260308T070000
END:DAYLIGHT
BEGIN:STANDARD
TZOFFSETFROM:-0400
TZOFFSETTO:-0500
TZNAME:EST
DTSTART:20261101T060000
END:STANDARD
END:VTIMEZONE
BEGIN:VEVENT
DTSTART;TZID=America/Toronto:20250412T100000
DTEND;TZID=America/Toronto:20250412T140000
DTSTAMP:20260419T223529
CREATED:20250326T163818Z
LAST-MODIFIED:20250326T163818Z
UID:10022461-1744452000-1744466400@huronshores.ca
SUMMARY:Kid’s Cookie Decorating & Crafts
DESCRIPTION:Hop on over to Valerie’s Kitchen 2 Go on Saturday\, April 12th between 10 AM – 2 PM for a Drop-in Kid’s Cookie Decorating & Crafts event! \n🎨 Activities include:🐰 Sock Bunny🥚 Crystal Easter Egg🌸 Coffee Filter Flower Bouquet🍪 Sugar Cookie Decorating \nOnly $5 per child — includes 1 craft & 2 cookies!📍17b Woodward Ave.\, Blind River \nNo need to register — just drop in and get creative! 🐇💐
URL:https://huronshores.ca/event/kids-cookie-decorating-crafts/
LOCATION:Valerie’s Kitchen 2 Go\, 17B Woodward Ave\, Blind River\, ON\, P0R 1B0\, Canada
CATEGORIES:Community News
END:VEVENT
END:VCALENDAR