BEGIN:VCALENDAR
VERSION:2.0
PRODID:-//Huron Shores - ECPv6.15.11//NONSGML v1.0//EN
CALSCALE:GREGORIAN
METHOD:PUBLISH
X-ORIGINAL-URL:https://huronshores.ca
X-WR-CALDESC:Events for Huron Shores
REFRESH-INTERVAL;VALUE=DURATION:PT1H
X-Robots-Tag:noindex
X-PUBLISHED-TTL:PT1H
BEGIN:VTIMEZONE
TZID:America/Toronto
BEGIN:DAYLIGHT
TZOFFSETFROM:-0500
TZOFFSETTO:-0400
TZNAME:EDT
DTSTART:20230312T070000
END:DAYLIGHT
BEGIN:STANDARD
TZOFFSETFROM:-0400
TZOFFSETTO:-0500
TZNAME:EST
DTSTART:20231105T060000
END:STANDARD
BEGIN:DAYLIGHT
TZOFFSETFROM:-0500
TZOFFSETTO:-0400
TZNAME:EDT
DTSTART:20240310T070000
END:DAYLIGHT
BEGIN:STANDARD
TZOFFSETFROM:-0400
TZOFFSETTO:-0500
TZNAME:EST
DTSTART:20241103T060000
END:STANDARD
BEGIN:DAYLIGHT
TZOFFSETFROM:-0500
TZOFFSETTO:-0400
TZNAME:EDT
DTSTART:20250309T070000
END:DAYLIGHT
BEGIN:STANDARD
TZOFFSETFROM:-0400
TZOFFSETTO:-0500
TZNAME:EST
DTSTART:20251102T060000
END:STANDARD
BEGIN:DAYLIGHT
TZOFFSETFROM:-0500
TZOFFSETTO:-0400
TZNAME:EDT
DTSTART:20260308T070000
END:DAYLIGHT
BEGIN:STANDARD
TZOFFSETFROM:-0400
TZOFFSETTO:-0500
TZNAME:EST
DTSTART:20261101T060000
END:STANDARD
END:VTIMEZONE
BEGIN:VEVENT
DTSTART;TZID=America/Toronto:20250528T093000
DTEND;TZID=America/Toronto:20250528T233000
DTSTAMP:20260421T105750
CREATED:20250430T201849Z
LAST-MODIFIED:20250430T201849Z
UID:10022801-1748424600-1748475000@huronshores.ca
SUMMARY:Community Coffee Hour (Thessalon)
DESCRIPTION:Chat\, sip\, and connect.🗓 2nd & 4th Wednesdays – 9:30 AM to 11:30 AM📍 Zion United Church\, 224 Main Street\, Thessalon
URL:https://huronshores.ca/event/community-coffee-hour-thessalon-2/
LOCATION:Zion United Church\, 224 Main Street\, Thessalon\, ON\, P0R 1L0\, Canada
END:VEVENT
BEGIN:VEVENT
DTSTART;TZID=America/Toronto:20250514T093000
DTEND;TZID=America/Toronto:20250514T233000
DTSTAMP:20260421T105750
CREATED:20250430T201025Z
LAST-MODIFIED:20250430T201025Z
UID:10022799-1747215000-1747265400@huronshores.ca
SUMMARY:Community Coffee Hour (Thessalon)
DESCRIPTION:Chat\, sip\, and connect.🗓 2nd & 4th Wednesdays – 9:30 AM to 11:30 AM📍 Zion United Church\, 224 Main Street\, Thessalon
URL:https://huronshores.ca/event/community-coffee-hour-thessalon/
LOCATION:Zion United Church\, 224 Main Street\, Thessalon\, ON\, P0R 1L0\, Canada
CATEGORIES:Community News
END:VEVENT
BEGIN:VEVENT
DTSTART;TZID=America/Toronto:20241025T093000
DTEND;TZID=America/Toronto:20241025T113000
DTSTAMP:20260421T105750
CREATED:20241004T200202Z
LAST-MODIFIED:20241004T200202Z
UID:10022716-1729848600-1729855800@huronshores.ca
SUMMARY:Zion United Church Coffee Hour
DESCRIPTION:Looking for a friendly community gathering? Zion United Church hosts a Coffee Hour on the 2nd and 4th Friday of each month from 9:30 AM to 11:30 AM. \nIt’s a wonderful chance to enjoy good coffee\, meet new people\, and have some great conversations. Everyone is welcome! \nMark your calendars and drop by for a relaxing morning!
URL:https://huronshores.ca/event/zion-united-church-coffee-hour-2/
LOCATION:Zion United Church\, 224 Main Street\, Thessalon\, ON\, P0R 1L0\, Canada
CATEGORIES:Community News
END:VEVENT
BEGIN:VEVENT
DTSTART;TZID=America/Toronto:20241011T093000
DTEND;TZID=America/Toronto:20241011T113000
DTSTAMP:20260421T105750
CREATED:20241004T200041Z
LAST-MODIFIED:20241004T200041Z
UID:10022715-1728639000-1728646200@huronshores.ca
SUMMARY:Zion United Church Coffee Hour
DESCRIPTION:Looking for a friendly community gathering? Zion United Church hosts a Coffee Hour on the 2nd and 4th Friday of each month from 9:30 AM to 11:30 AM. \nIt’s a wonderful chance to enjoy good coffee\, meet new people\, and have some great conversations. Everyone is welcome! \nMark your calendars and drop by for a relaxing morning!
URL:https://huronshores.ca/event/zion-united-church-coffee-hour/
LOCATION:Zion United Church\, 224 Main Street\, Thessalon\, ON\, P0R 1L0\, Canada
CATEGORIES:Community News
END:VEVENT
BEGIN:VEVENT
DTSTART;TZID=America/Toronto:20240927T093000
DTEND;TZID=America/Toronto:20240927T113000
DTSTAMP:20260421T105750
CREATED:20240812T140949Z
LAST-MODIFIED:20240812T140949Z
UID:10022693-1727429400-1727436600@huronshores.ca
SUMMARY:Community Coffee Hour
DESCRIPTION:Come out for a warm and welcoming coffee hour at Zion United Church! \n📅 Date: Every 2nd and 4th Friday of the month \n🕤 Time: 9:30 a.m. to 11:30 a.m. \n📍 Location: Zion United Church \nCome and enjoy a delightful morning with friends\, neighbors\, and fellow community members. Whether you’re a regular attendee or a first-time visitor\, everyone is welcome to share in good conversation\, delicious coffee\, and tasty treats.
URL:https://huronshores.ca/event/community-coffee-hour-6/
LOCATION:Zion United Church\, 224 Main Street\, Thessalon\, ON\, P0R 1L0\, Canada
CATEGORIES:Community News,Recreation
END:VEVENT
BEGIN:VEVENT
DTSTART;TZID=America/Toronto:20240913T093000
DTEND;TZID=America/Toronto:20240913T113000
DTSTAMP:20260421T105750
CREATED:20240812T140749Z
LAST-MODIFIED:20240812T140749Z
UID:10022692-1726219800-1726227000@huronshores.ca
SUMMARY:Community Coffee Hour
DESCRIPTION:Come out for a warm and welcoming coffee hour at Zion United Church! \n📅 Date: Every 2nd and 4th Friday of the month \n🕤 Time: 9:30 a.m. to 11:30 a.m. \n📍 Location: Zion United Church \nCome and enjoy a delightful morning with friends\, neighbors\, and fellow community members. Whether you’re a regular attendee or a first-time visitor\, everyone is welcome to share in good conversation\, delicious coffee\, and tasty treats.
URL:https://huronshores.ca/event/community-coffee-hour-5/
LOCATION:Zion United Church\, 224 Main Street\, Thessalon\, ON\, P0R 1L0\, Canada
CATEGORIES:Community News,Recreation
END:VEVENT
BEGIN:VEVENT
DTSTART;TZID=America/Toronto:20240823T093000
DTEND;TZID=America/Toronto:20240823T113000
DTSTAMP:20260421T105750
CREATED:20240812T140624Z
LAST-MODIFIED:20240812T140624Z
UID:10022691-1724405400-1724412600@huronshores.ca
SUMMARY:Community Coffee Hour
DESCRIPTION:Come out for a warm and welcoming coffee hour at Zion United Church! \n📅 Date: Every 2nd and 4th Friday of the month \n🕤 Time: 9:30 a.m. to 11:30 a.m. \n📍 Location: Zion United Church \nCome and enjoy a delightful morning with friends\, neighbors\, and fellow community members. Whether you’re a regular attendee or a first-time visitor\, everyone is welcome to share in good conversation\, delicious coffee\, and tasty treats.
URL:https://huronshores.ca/event/community-coffee-hour-4/
LOCATION:Zion United Church\, 224 Main Street\, Thessalon\, ON\, P0R 1L0\, Canada
CATEGORIES:Community News,Recreation
END:VEVENT
BEGIN:VEVENT
DTSTART;TZID=America/Toronto:20240726T093000
DTEND;TZID=America/Toronto:20240726T113000
DTSTAMP:20260421T105750
CREATED:20240625T131345Z
LAST-MODIFIED:20240625T131345Z
UID:10022654-1721986200-1721993400@huronshores.ca
SUMMARY:Community Coffee Hour
DESCRIPTION:Come out for a warm and welcoming coffee hour at Zion United Church! \n📅 Date: Every 2nd and 4th Friday of the month \n🕤 Time: 9:30 a.m. to 11:30 a.m. \n📍 Location: Zion United Church \nCome and enjoy a delightful morning with friends\, neighbors\, and fellow community members. Whether you’re a regular attendee or a first-time visitor\, everyone is welcome to share in good conversation\, delicious coffee\, and tasty treats.
URL:https://huronshores.ca/event/community-coffee-hour-3/
LOCATION:Zion United Church\, 224 Main Street\, Thessalon\, ON\, P0R 1L0\, Canada
CATEGORIES:Community News,Recreation
END:VEVENT
BEGIN:VEVENT
DTSTART;TZID=America/Toronto:20240712T093000
DTEND;TZID=America/Toronto:20240712T233000
DTSTAMP:20260421T105750
CREATED:20240625T131203Z
LAST-MODIFIED:20240625T131203Z
UID:10022653-1720776600-1720827000@huronshores.ca
SUMMARY:Community Coffee Hour
DESCRIPTION:Come out for a warm and welcoming coffee hour at Zion United Church! \n📅 Date: Every 2nd and 4th Friday of the month \n🕤 Time: 9:30 a.m. to 11:30 a.m. \n📍 Location: Zion United Church \nCome and enjoy a delightful morning with friends\, neighbors\, and fellow community members. Whether you’re a regular attendee or a first-time visitor\, everyone is welcome to share in good conversation\, delicious coffee\, and tasty treats.
URL:https://huronshores.ca/event/community-coffee-hour-2/
LOCATION:Zion United Church\, 224 Main Street\, Thessalon\, ON\, P0R 1L0\, Canada
CATEGORIES:Community News,Recreation
END:VEVENT
BEGIN:VEVENT
DTSTART;TZID=America/Toronto:20240628T093000
DTEND;TZID=America/Toronto:20240628T233000
DTSTAMP:20260421T105750
CREATED:20240625T131046Z
LAST-MODIFIED:20240625T131046Z
UID:10022652-1719567000-1719617400@huronshores.ca
SUMMARY:Community Coffee Hour
DESCRIPTION:Come out for a warm and welcoming coffee hour at Zion United Church! \n📅 Date: Every 2nd and 4th Friday of the month \n🕤 Time: 9:30 a.m. to 11:30 a.m. \n📍 Location: Zion United Church \nCome and enjoy a delightful morning with friends\, neighbors\, and fellow community members. Whether you’re a regular attendee or a first-time visitor\, everyone is welcome to share in good conversation\, delicious coffee\, and tasty treats.
URL:https://huronshores.ca/event/community-coffee-hour/
LOCATION:Zion United Church\, 224 Main Street\, Thessalon\, ON\, P0R 1L0\, Canada
CATEGORIES:Community News,Recreation
END:VEVENT
BEGIN:VEVENT
DTSTART;TZID=America/Toronto:20240417T093000
DTEND;TZID=America/Toronto:20240417T113000
DTSTAMP:20260421T105750
CREATED:20240125T142903Z
LAST-MODIFIED:20240125T142903Z
UID:10021344-1713346200-1713353400@huronshores.ca
SUMMARY:Coffee Hour
DESCRIPTION:Library coffee hour is held the first and third Wednesday of each month\, from 9:30 a.m. to 11:30 a.m. Everyone is welcome. Hosted by church of Redeemer in partnership with Zion United Church.
URL:https://huronshores.ca/event/coffee-hour-6/
LOCATION:Zion United Church\, 224 Main Street\, Thessalon\, ON\, P0R 1L0\, Canada
END:VEVENT
BEGIN:VEVENT
DTSTART;TZID=America/Toronto:20240403T093000
DTEND;TZID=America/Toronto:20240403T233000
DTSTAMP:20260421T105750
CREATED:20240125T142725Z
LAST-MODIFIED:20240125T142725Z
UID:10021343-1712136600-1712187000@huronshores.ca
SUMMARY:Coffee Hour
DESCRIPTION:Library coffee hour is held the first and third Wednesday of each month\, from 9:30 a.m. to 11:30 a.m. Everyone is welcome. Hosted by church of Redeemer in partnership with Zion United Church.
URL:https://huronshores.ca/event/coffee-hour-5/
LOCATION:Zion United Church\, 224 Main Street\, Thessalon\, ON\, P0R 1L0\, Canada
END:VEVENT
BEGIN:VEVENT
DTSTART;TZID=America/Toronto:20240320T093000
DTEND;TZID=America/Toronto:20240320T233000
DTSTAMP:20260421T105750
CREATED:20240125T142305Z
LAST-MODIFIED:20240125T142305Z
UID:10021340-1710927000-1710977400@huronshores.ca
SUMMARY:Coffee Hour
DESCRIPTION:Library coffee hour is held the first and third Wednesday of each month\, from 9:30 a.m. to 11:30 a.m. Everyone is welcome. Hosted by church of Redeemer in partnership with Zion United Church.
URL:https://huronshores.ca/event/coffee-hour-4/
LOCATION:Zion United Church\, 224 Main Street\, Thessalon\, ON\, P0R 1L0\, Canada
END:VEVENT
BEGIN:VEVENT
DTSTART;TZID=America/Toronto:20240306T093000
DTEND;TZID=America/Toronto:20240306T233000
DTSTAMP:20260421T105750
CREATED:20240125T141942Z
LAST-MODIFIED:20240125T142228Z
UID:10021336-1709717400-1709767800@huronshores.ca
SUMMARY:Coffee Hour
DESCRIPTION:Library coffee hour is held the first and third Wednesday of each month\, from 9:30 a.m. to 11:30 a.m. Everyone is welcome. Hosted by church of Redeemer in partnership with Zion United Church.
URL:https://huronshores.ca/event/coffee-hour-2/
LOCATION:Zion United Church\, 224 Main Street\, Thessalon\, ON\, P0R 1L0\, Canada
END:VEVENT
BEGIN:VEVENT
DTSTART;TZID=America/Toronto:20240207T093000
DTEND;TZID=America/Toronto:20240207T113000
DTSTAMP:20260421T105750
CREATED:20240125T141910Z
LAST-MODIFIED:20240125T141910Z
UID:10022548-1707298200-1707305400@huronshores.ca
SUMMARY:Coffee Hour
DESCRIPTION:Library coffee hour is held the first and third Wednesday of each month\, from 9:30 a.m. to 11:30 a.m. Everyone is welcome. Hosted by church of Redeemer in partnership with Zion United Church.
URL:https://huronshores.ca/event/coffee-hour/
LOCATION:Zion United Church\, 224 Main Street\, Thessalon\, ON\, P0R 1L0\, Canada
END:VEVENT
END:VCALENDAR